BEGIN:VCALENDAR
VERSION:2.0
PRODID:-//DTI - ECPv6.2.0.1//NONSGML v1.0//EN
CALSCALE:GREGORIAN
METHOD:PUBLISH
X-WR-CALNAME:DTI
X-ORIGINAL-URL:https://dti-mannheim.de/tr
X-WR-CALDESC:Events for DTI
REFRESH-INTERVAL;VALUE=DURATION:PT1H
X-Robots-Tag:noindex
X-PUBLISHED-TTL:PT1H
BEGIN:VTIMEZONE
TZID:Europe/Berlin
BEGIN:DAYLIGHT
TZOFFSETFROM:+0100
TZOFFSETTO:+0200
TZNAME:CEST
DTSTART:20240331T010000
END:DAYLIGHT
BEGIN:STANDARD
TZOFFSETFROM:+0200
TZOFFSETTO:+0100
TZNAME:CET
DTSTART:20241027T010000
END:STANDARD
END:VTIMEZONE
BEGIN:VEVENT
DTSTART;TZID=Europe/Berlin:20241205T080000
DTEND;TZID=Europe/Berlin:20241205T170000
DTSTAMP:20260419T154219
CREATED:20240306T074112Z
LAST-MODIFIED:20240704T125145Z
UID:10289-1733385600-1733418000@dti-mannheim.de
SUMMARY:Mitmachen Ehrensache – Jobben für einen guten Zweck
DESCRIPTION:Du hast Lust\, dich sozial zu engagieren und gleichzeitig einen Einblick in die Berufswelt zu bekommen? Bei Mitmachen Ehrensache suchen sich Jugendliche im Vorfeld oder am Internationalen Tag des Ehrenamts\, dem 5. Dezember\, einen Job bei einem Arbeitgeber ihrer Wahl. Das erarbeitete Geld behalten sie aber nicht für sich\, sondern spenden es für soziale Projekte. Jährlich beteiligen sich landesweit rund 10.000 Schülerinnen und Schüler. Dabei werden rund eine Viertelmillion Euro für gute Zwecke erarbeitet – eine tolle Leistung! \nMitmachen können Schülerinnen und Schüler ab Klasse 7. Für die Klassen 5 und 6 gibt es die Möglichkeit\, als ganze Klasse aktiv zu werden. Regionale Aktionsbüros helfen bei der Umsetzung vor Ort. Schulen können die Aktion auch als Baustein zur Berufsorientierung in den Jahresablauf integrieren.\nWer mehr als nur den einen Tag dabei sein möchte\, kann als Botschafterin oder Botschafter für Mitmachen Ehrensache aktiv werden. Auftakt dafür ist ein gemeinsames Botschafterseminar im Herbst. \nKontakt: DTI e.V. // Aktionsbüro Mannheim – mannheim[a]mitmachen-ehrensache.de
URL:https://dti-mannheim.de/tr/termin/mitmachen-ehrensache-jobben-fuer-einen-guten-zweck-2/
ATTACH;FMTTYPE=image/jpeg:https://dti-mannheim.de/wp-content/uploads/2024/03/MME23-Mannheim©Doradzillo_1290web.jpg
END:VEVENT
END:VCALENDAR