BEGIN:VCALENDAR
VERSION:2.0
PRODID:-//DTI - ECPv6.2.0.1//NONSGML v1.0//EN
CALSCALE:GREGORIAN
METHOD:PUBLISH
X-WR-CALNAME:DTI
X-ORIGINAL-URL:https://dti-mannheim.de/tr
X-WR-CALDESC:Events for DTI
REFRESH-INTERVAL;VALUE=DURATION:PT1H
X-Robots-Tag:noindex
X-PUBLISHED-TTL:PT1H
BEGIN:VTIMEZONE
TZID:Europe/Berlin
BEGIN:DAYLIGHT
TZOFFSETFROM:+0100
TZOFFSETTO:+0200
TZNAME:CEST
DTSTART:20230326T010000
END:DAYLIGHT
BEGIN:STANDARD
TZOFFSETFROM:+0200
TZOFFSETTO:+0100
TZNAME:CET
DTSTART:20231029T010000
END:STANDARD
END:VTIMEZONE
BEGIN:VEVENT
DTSTART;TZID=Europe/Berlin:20231209T110000
DTEND;TZID=Europe/Berlin:20231209T120000
DTSTAMP:20260422T023047
CREATED:20230720T101829Z
LAST-MODIFIED:20231208T083116Z
UID:9467-1702119600-1702123200@dti-mannheim.de
SUMMARY:Vorleseaktion / Die wütende Spinne RIZA und die eifersüchtige Frosch EDA
DESCRIPTION:Vorleseaktion zur Erstübersetzung \nLeyla ist Ur-\, Ur-\, Urenkelin von La Fontain. Genau\, der La Fontaine\, der sich die berühmten Tierfabeln ausgedacht hat. Wie in den Fabeln wimmelt es in Leylas Haus von Tieren. \nTülin Kozikoğlu (Autorin)\, Sedat Girgin (Illustrator) und Dr. Kristy Koth (Geschäftsführerin bi:libri) stellen die erstmals aus dem türkischen übersetzten Bücher vor und erzählen von Riza und Eda in türkischer\, deutscher und englischer Sprache. \nModeration: Gizem Weber (DTI-Mannheim e.V.) \nFür Eltern mit Kindern ab 4 Jahren Kostenlos\, ohne Anmeldung \nEine Veranstaltung von Edition bi:libri\, DTI e.V.\, und Stadtbibliothek Mannheim.
URL:https://dti-mannheim.de/tr/termin/deutsch-tuerkische-vorlesestunde/
LOCATION:Dalbergsaal im Dalberghaus\, Kinder- und Jugendbibliothek im Dalberghaus - N3 4\, 68161 Mannheim\, 68161
ATTACH;FMTTYPE=image/jpeg:https://dti-mannheim.de/wp-content/uploads/2023/07/Riza.jpg
END:VEVENT
END:VCALENDAR