BEGIN:VCALENDAR
VERSION:2.0
PRODID:-//DTI - ECPv6.2.0.1//NONSGML v1.0//EN
CALSCALE:GREGORIAN
METHOD:PUBLISH
X-WR-CALNAME:DTI
X-ORIGINAL-URL:https://dti-mannheim.de
X-WR-CALDESC:Veranstaltungen für DTI
REFRESH-INTERVAL;VALUE=DURATION:PT1H
X-Robots-Tag:noindex
X-PUBLISHED-TTL:PT1H
BEGIN:VTIMEZONE
TZID:Europe/Berlin
BEGIN:DAYLIGHT
TZOFFSETFROM:+0100
TZOFFSETTO:+0200
TZNAME:CEST
DTSTART:20260329T010000
END:DAYLIGHT
BEGIN:STANDARD
TZOFFSETFROM:+0200
TZOFFSETTO:+0100
TZNAME:CET
DTSTART:20261025T010000
END:STANDARD
END:VTIMEZONE
BEGIN:VEVENT
DTSTART;TZID=Europe/Berlin:20260310T190000
DTEND;TZID=Europe/Berlin:20260310T203000
DTSTAMP:20260420T113714
CREATED:20260218T085116Z
LAST-MODIFIED:20260224T075936Z
UID:12096-1773169200-1773174600@dti-mannheim.de
SUMMARY:DTI-Stammtisch im März: Ein Abend mit Ali Gencer
DESCRIPTION:Im Rahmen unseres März-Stammtischs laden wir zu einem besonderen Gesprächsabend ein: \nUnser Kuratoriumsmitglied Ali Gencer nimmt uns mit auf seine fast einjährige Reise durch China und weitere Stationen in Asien – beruflich wie persönlich. \nWas nimmt man mit\, wenn man monatelang zwischen Kulturen lebt und arbeitet? Welche Begegnungen und Herausforderungen prägen nachhaltig? Wie verändert diese Zeit den Blick auf Deutschland\, auf Gesellschaft – und auf sich selbst? Und was lässt sich daraus für unser eigenes Engagement mitnehmen? In einem moderierten Gespräch teilt Ali Gencer seine Erfahrungen\, Perspektivwechsel und zentralen Erkenntnisse – offen\, reflektiert und im vertrauten Rahmen unseres Stammtischs. \nWir freuen uns auf einen anregenden Austausch im MARUBA.\nAnmeldung erforderlich: info@dti-mannheim.de
URL:https://dti-mannheim.de/termin/dti-stammtisch-im-maerz-ein-abend-mit-ali-gencer/
LOCATION:Maruba das Gasthaus\, Feudenheimer Str. 2\, Mannheim\, 68167\, Germany
ATTACH;FMTTYPE=image/png:https://dti-mannheim.de/wp-content/uploads/2023/11/GENCER_Ali_DTI_Webseite_Portraitbilder-1.png
END:VEVENT
END:VCALENDAR