BEGIN:VCALENDAR
VERSION:2.0
PRODID:-//DTI - ECPv6.2.0.1//NONSGML v1.0//EN
CALSCALE:GREGORIAN
METHOD:PUBLISH
X-WR-CALNAME:DTI
X-ORIGINAL-URL:https://dti-mannheim.de
X-WR-CALDESC:Veranstaltungen für DTI
REFRESH-INTERVAL;VALUE=DURATION:PT1H
X-Robots-Tag:noindex
X-PUBLISHED-TTL:PT1H
BEGIN:VTIMEZONE
TZID:Europe/Berlin
BEGIN:DAYLIGHT
TZOFFSETFROM:+0100
TZOFFSETTO:+0200
TZNAME:CEST
DTSTART:20240331T010000
END:DAYLIGHT
BEGIN:STANDARD
TZOFFSETFROM:+0200
TZOFFSETTO:+0100
TZNAME:CET
DTSTART:20241027T010000
END:STANDARD
END:VTIMEZONE
BEGIN:VEVENT
DTSTART;TZID=Europe/Berlin:20240316T110000
DTEND;TZID=Europe/Berlin:20240316T140000
DTSTAMP:20260421T185406
CREATED:20240306T070905Z
LAST-MODIFIED:20240306T071652Z
UID:10262-1710586800-1710597600@dti-mannheim.de
SUMMARY:#WECKRUF - Aktionsstand beim Markt der Vielfalt
DESCRIPTION:Das Bündnis „Mannheim gegen Rechts“ organisiert zum Auftakt seiner Kampagne „Nie wieder ist jetzt! – Wählt demokratisch!“  am 16. März 2024 den Markt der Vielfalt. Beim Markt der Vielfalt werden Organisationen und Gruppen von 11:00 Uhr bis 14:00 Uhr in der Innenstadt und im Jungbusch Aktionsstände machen. Für 15:00 Uhr ist eine gemeinsame Demonstration ab Paradeplatz zum Alten Messplatz geplant. Organisationen sind aufgerufen zu zeigen\, wofür die jeweilige Organisation steht und um mit den Mitmenschen der Stadt ins Gespräch zu kommen. Mehr… \nDas DTI nimmt mit seinem „Weckruf“ an dem Markt der Vielfalt teil!
URL:https://dti-mannheim.de/termin/weckruf-aktionsstand-beim-markt-der-vielfalt/
LOCATION:Innenstadt/Jungbusch
ATTACH;FMTTYPE=image/jpeg:https://dti-mannheim.de/wp-content/uploads/2024/03/flyer2-16032024-VS.jpg
END:VEVENT
END:VCALENDAR