BEGIN:VCALENDAR
VERSION:2.0
PRODID:-//DTI - ECPv6.2.0.1//NONSGML v1.0//EN
CALSCALE:GREGORIAN
METHOD:PUBLISH
X-ORIGINAL-URL:https://dti-mannheim.de
X-WR-CALDESC:Veranstaltungen für DTI
REFRESH-INTERVAL;VALUE=DURATION:PT1H
X-Robots-Tag:noindex
X-PUBLISHED-TTL:PT1H
BEGIN:VTIMEZONE
TZID:Europe/Berlin
BEGIN:DAYLIGHT
TZOFFSETFROM:+0100
TZOFFSETTO:+0200
TZNAME:CEST
DTSTART:20240331T010000
END:DAYLIGHT
BEGIN:STANDARD
TZOFFSETFROM:+0200
TZOFFSETTO:+0100
TZNAME:CET
DTSTART:20241027T010000
END:STANDARD
END:VTIMEZONE
BEGIN:VEVENT
DTSTART;TZID=Europe/Berlin:20240106T110000
DTEND;TZID=Europe/Berlin:20240106T170000
DTSTAMP:20260421T221111
CREATED:20221221T114548Z
LAST-MODIFIED:20231212T153058Z
UID:7913-1704538800-1704560400@dti-mannheim.de
SUMMARY:Neujahrsempfang der Stadt Mannheim / 2024
DESCRIPTION:Am traditionellen Datum des Drei-Königs-Tags wird der Neujahrsempfang der Stadt Mannheim veranstaltet. Das Deutsch-Türkische Institut für Arbeit und Bildung e.V. lädt Sie herzlich ein\, uns am Samstag\, dem 6. Januar 2024\, im CC Rosengarten an unserem DTI-Infostand (Ebene 0 / Stand Nr. 68) im Themenbereich ‚Bildung‘ zu besuchen!
URL:https://dti-mannheim.de/termin/neujahrsempfang-der-stadt-mannheim-2023/
LOCATION:CC Rosengarten Mannheim
ATTACH;FMTTYPE=image/jpeg:https://dti-mannheim.de/wp-content/uploads/2022/12/NJE24-Sharepic-2.jpg
END:VEVENT
END:VCALENDAR