BEGIN:VCALENDAR
VERSION:2.0
PRODID:-//DTI - ECPv6.2.0.1//NONSGML v1.0//EN
CALSCALE:GREGORIAN
METHOD:PUBLISH
X-ORIGINAL-URL:https://dti-mannheim.de
X-WR-CALDESC:Veranstaltungen für DTI
REFRESH-INTERVAL;VALUE=DURATION:PT1H
X-Robots-Tag:noindex
X-PUBLISHED-TTL:PT1H
BEGIN:VTIMEZONE
TZID:Europe/Berlin
BEGIN:DAYLIGHT
TZOFFSETFROM:+0100
TZOFFSETTO:+0200
TZNAME:CEST
DTSTART:20230326T010000
END:DAYLIGHT
BEGIN:STANDARD
TZOFFSETFROM:+0200
TZOFFSETTO:+0100
TZNAME:CET
DTSTART:20231029T010000
END:STANDARD
END:VTIMEZONE
BEGIN:VEVENT
DTSTART;TZID=Europe/Berlin:20230919T170000
DTEND;TZID=Europe/Berlin:20230919T190000
DTSTAMP:20260422T041008
CREATED:20230720T074536Z
LAST-MODIFIED:20230728T090553Z
UID:9442-1695142800-1695150000@dti-mannheim.de
SUMMARY:Runder Tisch "Kulturförderung aus der Perspektive migrantischer Unternehmer:innen"
DESCRIPTION:Anmeldung erforderlich! \nAuf eine Initiative des Internationalen Filmfestivals Mannheim-Heidelberg laden wir Unternehmer:innen der Metropolregion ein\, bei einem After-Work in lockerer Atmosphäre die Möglichkeiten und Chancen für kulturelles Engagement für Ihr Unternehmen und für die regionale Kulturlandschaft zu diskutieren. \nUnternehmer:innen mit Migrationsbiografie und Unternehmen\, die sich an eine migrantische Kundschaft richten\, spielen eine bedeutende Rolle für die Wirtschaft der Metropolregion. Gerade was Unternehmensgründungen betrifft\, sind migrantische Unternehmer:innen und Unternehmer:innen mit Migrationsbiografie eine tragende Säule der wirtschaftlichen Entwicklung. \nAber bislang spiegelt sich das nicht in der Kulturförderung oder in Kulturpartnerschaften wider. Wir wollen gemeinsam mit Ihnen herausfinden: Welche Möglichkeiten für Kulturpartnerschaften existieren und welche brauchen wir? Was sind die unternehmerischen Benefits von kulturellem Engagement\, und welche Bedürfnisse und Wünsche gibt es auf beiden Seiten – bei Unternehmen und Kultureinrichtungen? Welche wirtschaftlichen und gesellschaftlichen Signale gehen von Partnerschaft zwischen Unternehmen und Kultureinrichtungen aus? \nBei der Veranstaltung werden sich das Nationaltheater Mannheim und das Internationale Filmfestival kurz vorstellen. In einem moderierten Gespräch mit allen Anwesenden wollen wir anschließend über Chancen und Hürden von Kulturpartnerschaften insbesondere für migrantisch geführte und ausgerichtete Unternehmen sprechen. Zusätzlich zu Vertreter:innen unserer drei Institutionen haben wir eine Vertreterin des Migrationsbeirats der Stadt Mannheim sowie des Kulturkreises der Deutschen Wirtschaft zu dem Runden Tisch eingeladen. \nFühlen Sie sich angesprochen? Möchten Sie an dem runden Tisch teilnehmen? Dann melden Sie sich bei uns per E-Mail unter info[a] dti-mannheim.de. Die Info zum Veranstaltungsort erhalten Sie mit der Anmeldebestätigung per E-Mail.
URL:https://dti-mannheim.de/termin/runder-tisch-kulturfoerderung-aus-der-perspektive-migrantischer-unternehmerinnen/
END:VEVENT
END:VCALENDAR