BEGIN:VCALENDAR
VERSION:2.0
PRODID:-//DTI - ECPv6.2.0.1//NONSGML v1.0//EN
CALSCALE:GREGORIAN
METHOD:PUBLISH
X-WR-CALNAME:DTI
X-ORIGINAL-URL:https://dti-mannheim.de
X-WR-CALDESC:Veranstaltungen für DTI
REFRESH-INTERVAL;VALUE=DURATION:PT1H
X-Robots-Tag:noindex
X-PUBLISHED-TTL:PT1H
BEGIN:VTIMEZONE
TZID:Europe/Berlin
BEGIN:DAYLIGHT
TZOFFSETFROM:+0100
TZOFFSETTO:+0200
TZNAME:CEST
DTSTART:20230326T010000
END:DAYLIGHT
BEGIN:STANDARD
TZOFFSETFROM:+0200
TZOFFSETTO:+0100
TZNAME:CET
DTSTART:20231029T010000
END:STANDARD
END:VTIMEZONE
BEGIN:VEVENT
DTSTART;TZID=Europe/Berlin:20230319T100000
DTEND;TZID=Europe/Berlin:20230319T130000
DTSTAMP:20260424T183318
CREATED:20230201T125913Z
LAST-MODIFIED:20230319T173529Z
UID:7966-1679220000-1679230800@dti-mannheim.de
SUMMARY:DTI-Unternehmerfrühstück: Jetzt Anmelden!
DESCRIPTION:Sehr geehrte Damen und Herren\, \ngenüsslich gemeinsam frühstücken und angeregt diskutieren – dazu laden das Deutsch-Türkische Institut für Arbeit und Bildung (DTI) und der Verband türkischer Unternehmer Rhein-Neckar e.V. (TID) Sie herzlich ein. \nEine fundierte berufliche Ausbildung für den Arbeitsmarkt und das Berufsleben ist wichtig. Dennoch ist der Fachkräftemangel mittlerweile so gravierend und für jeden spürbar\, dass der Ruf nach umfassenden Anstrengungen zur Gewinnung von Nachwuchskräften – auch aus Nicht-EU-Ländern – unüberhörbar ist. Es geht um mehrere 100.000 fehlende Fachkräfte. Nutzen Sie unsere Veranstaltungsreihe für Ihre Geschäftsbeziehungen und für die Realisierung von Ausbildungschancen für Ihre zukünftigen Mitarbeiter:innen. \nDie Teilnahme und das Frühstück sind für die angemeldeten Personen kostenfrei. Kostenlose Parkmöglichkeiten gibt es an der Sportanlage oder am Hans-Reschke-Ufer 2 \nWir freuen uns über Ihre Online-Anmeldung [Unten] bis zum 15. März 2023. Die Teilnehmerzahl ist begrenzt. Anmeldungen werden in der Reihenfolge des Eingangs berücksichtigt. Die Anmeldung ist für das DTI erst verbindlich\, wenn der Termin schriftlich von uns bestätigt wurde. \nMit freundlichen Grüßen \n\n\n⇒ FLYER: DTI Unternehmerfrühstück_Programm_ 19.03.2023
URL:https://dti-mannheim.de/termin/dti-unternehmerfruehstueck-anmelden/
LOCATION:TSV Mannheim 1846 e.V.\, Hans-Reschke-Ufer 4a\, 68165 Mannheim\, Hans-Reschke-Ufer 4a\, 68165 Mannheim\, Mannheim\, 68165\, Deutschland
ATTACH;FMTTYPE=image/png:https://dti-mannheim.de/wp-content/uploads/2023/02/Homepage-banner-11.png
END:VEVENT
END:VCALENDAR