BEGIN:VCALENDAR
VERSION:2.0
PRODID:-//DTI - ECPv6.2.0.1//NONSGML v1.0//EN
CALSCALE:GREGORIAN
METHOD:PUBLISH
X-WR-CALNAME:DTI
X-ORIGINAL-URL:https://dti-mannheim.de
X-WR-CALDESC:Veranstaltungen für DTI
REFRESH-INTERVAL;VALUE=DURATION:PT1H
X-Robots-Tag:noindex
X-PUBLISHED-TTL:PT1H
BEGIN:VTIMEZONE
TZID:Europe/Berlin
BEGIN:DAYLIGHT
TZOFFSETFROM:+0100
TZOFFSETTO:+0200
TZNAME:CEST
DTSTART:20260329T010000
END:DAYLIGHT
BEGIN:STANDARD
TZOFFSETFROM:+0200
TZOFFSETTO:+0100
TZNAME:CET
DTSTART:20261025T010000
END:STANDARD
END:VTIMEZONE
BEGIN:VEVENT
DTSTART;TZID=Europe/Berlin:20260426T100000
DTEND;TZID=Europe/Berlin:20260426T130000
DTSTAMP:20260425T143954
CREATED:20260224T075434Z
LAST-MODIFIED:20260224T075701Z
UID:12128-1777197600-1777208400@dti-mannheim.de
SUMMARY:Ich beim DTI – wie und wo bringe ich mich ein?
DESCRIPTION:Ich beim DTI – wie und wo bringe ich mich ein?\nWorkshop exklusiv für DTI-Mitglieder (Die Teilnahme externer Personen ist ausgeschlossen) \nWie möchten Sie sich ins DTI einbringen – mit Ihrer Expertise\, Ihren Ideen\, Ihrer Persönlichkeit? Wo werden Sie gebraucht und in welcher Weise können Sie Projekte besonders gut voranbringen? In unserem Workshop am Sonntag\, den 26. April 2026 (10:00 – 13:00 Uhr\, Parkhotel 1901)\, schaffen wir Raum für genau diese Fragen. Gemeinsam und lebendig erfahren Sie\, welche Projekte und Themen beim DTI anstehen\, welche Rollen es für den Erfolg des DTI braucht – von Fachexpertise über die Begleitung bestimmter Projekte bis hin zu organisatorischer Unterstützung – und wie jede und jeder sich optimal einbringen kann. \nSie lernen die Stärken und Interessen der anderen Mitglieder neu kennen\, entdecken Möglichkeiten für die Zusammenarbeit und entwickeln nächste Schritte. Ziel ist es\, Verantwortliche für spezifische Engagementfelder zu bestimmen und unsere Zusammenarbeit zu stärken. \nDer Workshop wird moderiert von Prof. Dr. Bettina Franzke und lebt von Ihrer aktiven Beteiligung. Neben Klarheit und Struktur wird es auch Raum für Austausch\, Bewegung und gemeinsames Erleben geben. \nNehmen Sie sich am Sonntagvormittag Zeit\, Ihre Rolle beim DTI bewusst zu schärfen und die Zukunft unseres Netzwerks aktiv zu gestalten. Wir freuen uns auf Sie! \nAnmeldung: bis zum 6. März 2026 per E-Mail an die Projektkoordinatorin des DTI e.V.
URL:https://dti-mannheim.de/termin/ich-beim-dti-wie-und-wo-bringe-ich-mich-ein/
LOCATION:Parkhotel 1901 Mannheim
ATTACH;FMTTYPE=image/jpeg:https://dti-mannheim.de/wp-content/uploads/2024/05/20240513_DTI_Mannheim_-225-von-225_2700x1801px_72dpi-scaled.jpg
END:VEVENT
BEGIN:VEVENT
DTSTART;TZID=Europe/Berlin:20260518T090000
DTEND;TZID=Europe/Berlin:20260522T160000
DTSTAMP:20260425T143954
CREATED:20250202T070503Z
LAST-MODIFIED:20260424T183359Z
UID:11505-1779094800-1779465600@dti-mannheim.de
SUMMARY:Projektwoche „Hey\, trau dich!“ / Präventionskonzept für Jahrgang 7
DESCRIPTION:Das Deutsch-Türkische Institut für Arbeit und Bildung e.V. (DTI) beteiligt sich als Kooperationspartner am Projekt „Hey\, trau dich! 2026“ an der Marie-Curie-Realschule Mannheim. \nGemeinsam mit zahlreichen Einrichtungen aus den Bereichen Beratung\, Bildung und Prävention erhalten Schüler:innen die Möglichkeit\, unterschiedliche Unterstützungsangebote kennenzulernen und mit Fachkräften ins Gespräch zu kommen. Im Rahmen von Projekttagen besuchen die Jugendlichen die beteiligten Institutionen und setzen sich anhand praxisnaher Einblicke mit sozialen Fragestellungen auseinander. \nZiel des Projekts ist es\, Orientierung zu geben\, Handlungskompetenzen zu stärken und den Zugang zu Hilfs- und Beratungsstrukturen zu erleichtern. \nDas DTI freut sich\, Teil dieses vielfältigen Netzwerks zu sein und den Austausch mit jungen Menschen aktiv mitzugestalten.
URL:https://dti-mannheim.de/termin/projektwoche-hey-trau-dich-praeventionskonzept-fuer-jahrgang-7/
ATTACH;FMTTYPE=image/png:https://dti-mannheim.de/wp-content/uploads/2025/02/Hey-trau-dich.png
END:VEVENT
BEGIN:VEVENT
DTSTART;TZID=Europe/Berlin:20260520T113000
DTEND;TZID=Europe/Berlin:20260520T130000
DTSTAMP:20260425T143954
CREATED:20260210T101550Z
LAST-MODIFIED:20260324T103744Z
UID:12084-1779276600-1779282000@dti-mannheim.de
SUMMARY:Wir feiern das Grundgesetz.
DESCRIPTION:Demokratie ist keine Selbstverständlichkeit. Sie lebt vom Mitreden\, vom Widerspruch und vom Engagement derjenigen\, die Verantwortung übernehmen – im Ehrenamt\, im Alltag\, in der Gesellschaft. In einer Zeit voller Schlagzeilen\, Social Media Slogans und Polarisierung braucht es Orte\, an denen Grundrechte nicht nur benannt\, sondern gemeinsam erlebt und diskutiert werden – offen\, kontrovers und auf Augenhöhe. \nMit der Veranstaltung „Freiheit. Stimme. Engagement.“ bringt der DTI e. V. am 20. Mai 2026 Musik\, Kabarett und Diskussion zusammen. Im Mittelpunkt steht der poetisch-politische Kabarettist Lars Reichow\, der mit Witz\, Musik und klarem Blick zentrale Werte unseres Grundgesetzes greifbar macht – von der freien Entfaltung der Persönlichkeit über Meinungs- und Versammlungsfreiheit bis hin zur Bedeutung von zivilgesellschaftlichem Engagement. \nErgänzt wird das Programm durch einen Impuls von Lavdrata Jusufi\, Vorsitzende des Migrationsbeirats Mannheim\, sowie durch interaktive Debating-Formate mit Schüler:innen. Gemeinsam wird diskutiert\, gestritten und laut nachgedacht: Wie viel Freiheit braucht Demokratie? Wo beginnt Verantwortung? Und wie können junge Menschen ihre Stimme wirksam einbringen? \n„Freiheit. Stimme. Engagement.“ verbindet Generationen\, Perspektiven und Erfahrungswelten und zeigt\, dass Demokratie dort lebendig bleibt\, wo Menschen sich einmischen. \nHier geht es zum Flyer 🙂 \nDie Veranstaltung ist zudem im Veranstaltungskalender der Stiftung gegen Rassismus im Rahmen der Initiative „23. Mai: Das Grundgesetz feiern!“ gelistet. \nWichtiger Hinweis: Die Anzahl der Plätze ist begrenzt. Eine Anmeldung per E-Mail ist notwendig und wird schriftlich bestätigt.
URL:https://dti-mannheim.de/termin/wir-feiern-das-grundgesetz/
LOCATION:Aula der IGMH
ATTACH;FMTTYPE=image/png:https://dti-mannheim.de/wp-content/uploads/2026/02/Flyer_DTI_GG77_A5_Cover_Webseite.png
END:VEVENT
BEGIN:VEVENT
DTSTART;TZID=Europe/Berlin:20260527T110000
DTEND;TZID=Europe/Berlin:20260527T143000
DTSTAMP:20260425T143954
CREATED:20260323T133206Z
LAST-MODIFIED:20260323T135110Z
UID:12154-1779879600-1779892200@dti-mannheim.de
SUMMARY:Future Girls* 2026 | Empowerment-Workshop | Bist du dabei?
DESCRIPTION:Im Rahmen des Projekts „Future Girls*“ finden verschiedene Workshops zur Stärkung von Mädchen* und jungen Frauen statt. Auch das Deutsch-Türkische Institut für Arbeit und Bildung e.V. (DTI e.V.) beteiligt sich aktiv an diesem Projekt und bringt eigene Angebote ein. Mit dem Workshop „Empowerment-Workshop“ setzt das DTI e.V. einen Schwerpunkt im Bereich Empowerment und Persönlichkeitsentwicklung. \n📍 Wo?Jugendtreff SchwetzingerstadtWespinstraße 2A\, 68165 Mannheim \n👥 Wer?Ab 15 Jahre\, max. 12 Teilnehmerinnen* \nAnmeldung\ntasniem.ibrahim@dti-mannheim.de  \n*Der Workshop ist Teil des Projekts „Future Girls*“\, das im Rahmen der GAP2-Gruppe in Mannheim entwickelt wurde. Ziel ist es\, sogenannte Future Skills zu vermitteln und junge Mädchen* in ihrer persönlichen und beruflichen Entwicklung zu stärken. Der hier angebotene Workshop im Format P2P-Empowerment wird durch die Jugendstiftung Baden-Württemberg gefördert und findet im Rahmen des Projekts „Future Girls*“ statt.
URL:https://dti-mannheim.de/termin/future-girls-2026-empowerment-workshop-bist-du-dabei/
ATTACH;FMTTYPE=image/png:https://dti-mannheim.de/wp-content/uploads/2026/03/FutureGirls_Workshops2026-3.png
END:VEVENT
BEGIN:VEVENT
DTSTART;TZID=Europe/Berlin:20260614T143000
DTEND;TZID=Europe/Berlin:20260614T173000
DTSTAMP:20260425T143954
CREATED:20260424T182608Z
LAST-MODIFIED:20260424T183453Z
UID:12216-1781447400-1781458200@dti-mannheim.de
SUMMARY:40 Jahre Lernmobil – 40 Jahre erlebte Migrationsgeschichte | Filmvorführung: Kismet I und Kismet II - anschließend Teilen von eigenen Lebensgeschichten bei Tee\, Kaffee und Kuchen
DESCRIPTION:Seit 40 Jahren begleitet das Lernmobil Menschen beim Ankommen und Leben in Viernheim.Das Jubiläum ist Anlass\, diesen Teil der Viernheimer Stadtgeschichte sichtbar zu machen\, Migrationsgeschichte vor Ort neu zu entdecken – durch persönliche Erinnerungen und bewegende Lebenswege. \nDie Mannheimer Filmemacherin Merve Uslu-Ersoy\, Kuratoriumsmitglied des Deutsch-Türkischen Instituts für Arbeit und Bildung e.V. (DTI)\, erzählt in zwei Kurzfilmen die Geschichte ihrer Großeltern als Teil der ersten Generation türkischer Migrant:innen. Ihre Filme eröffnen einen einfühlsamen Blick in die Vergangenheit und machen die emotionalen Erfahrungen von Migration spürbar. \nEs wird eine Expertenrunde geben und wir wollen\, inspiriert von den Filmen\, unsere Erfahrungen beim Ankommen\, Bleiben und Zusammenwachsen miteinander teilen. \nDie Veranstaltung ist Teil eines gemeinsamen Projekts mit dem Museum Viernheim und der Johannes Gutenberg-Universität Mainz. In diesem Projekt wird die Migrationsgeschichte von Menschen seit Kriegsende quellenmäßig recherchiert und Lebensgeschichten werden in Zeitzeugeninterviews festgehalten. \nDiese Veranstaltung findet als Kooperationsveranstaltung mit den beiden Viernheimer Moscheen\, DITIB und IGMG\, sowie dem Deutsch-Türkischen Institut für Arbeit und Bildung e.V. (DTI) in Mannheim sowie dem Museum Viernheim statt. \nWo? Bürgerhaus Viernheim\, Kreuzstr. 2\nWann? 14.06.2026\, Einlass 14:00 Uhr\, Beginn 14:30 Uhr\nEintritt frei.
URL:https://dti-mannheim.de/termin/40-jahre-lernmobil-40-jahre-erlebte-migrationsgeschichte-filmvorfuehrung-kismet-i-und-kismet-ii/
LOCATION:Bürgerhaus Viernheim
ATTACH;FMTTYPE=image/jpeg:https://dti-mannheim.de/wp-content/uploads/2024/06/@Merve-Uslu-Ersoy_KISMET_vorderseite.jpg
END:VEVENT
BEGIN:VEVENT
DTSTART;TZID=Europe/Berlin:20260925T093000
DTEND;TZID=Europe/Berlin:20260925T110000
DTSTAMP:20260425T143954
CREATED:20260327T142322Z
LAST-MODIFIED:20260327T162527Z
UID:12204-1790328600-1790334000@dti-mannheim.de
SUMMARY:Eltern-Infoveranstaltung mit Nil Tuncalı [deutsch und türkisch]
DESCRIPTION:Das Deutsch-Türkisches Institut (DTI) e.V. bietet eine neue Reihe von kostenfreien\, niedrigschwelligen Eltern-Infoveranstaltungen an. Ziel ist es\, Familien bei Fragen rund um Entwicklung\, Erziehung und Bildung ihrer Kinder zu unterstützen sowie Orientierung im deutschen Bildungs- und Unterstützungssystem zu geben. \nDie Veranstaltungen werden von unserem Mitglied Nil Tuncalı durchgeführt.\nSie bringt ihre fachliche Expertise sowie ihr ehrenamtliches Engagement in dieses Angebot ein. \nReferentin:Nil Tuncalı\, Heilpädagogin | Autismusberaterin \nEntwicklung und Auffälligkeiten bei Kindern\nam 25.09.2026\, 9:30 – 11:00 Uhr\nInhalte (Auswahl)\n\nEntwicklungsverzögerungen\nVerhaltensauffälligkeiten\nADHS / Autismus (erste Orientierung\, keine Diagnosen)\nUmgang mit Auffälligkeiten und Unsicherheiten\nOrientierung zu Anlaufstellen und Unterstützungsmöglichkeiten\n\nDie Veranstaltung richtet sich sowohl an Familien mit kleinen Kindern als auch an Eltern von Schulkindern. \nDie Veranstaltung findet zweisprachig (Deutsch und Türkisch) statt und richtet sich insbesondere auch an neu zugewanderte Familien. \nAblauf\n\nKurzer thematischer Input durch Nil Tuncalı\nOffene Fragerunde\nAustausch unter Eltern\nMöglichkeit\, Fragen zu stellen und Orientierung zu erhalten\n\nZielgruppe\n\nEltern und Erziehungsberechtigte\nFamilien mit Kindern von 0 bis 10 Jahren\nInteressierte aus dem Bereich Familie und Bildung\n\nTermin u. Anmeldung\n📅 Termin: 25.09.2026\, 9:30 – 11:00 Uhr📍 Ort: Seminarraum DTI e.V. (M7 14\, 68161 Mannheim\, über der Cosmos-Apotheke im 1. OG)📧 Anmeldung: gizem.weber@dti-mannheim.de |\n \nDie Teilnahme ist kostenfrei\, Spenden sind willkommen\, eine Anmeldung ist erforderlich.\nFür die Anmeldung bitten wir um folgende Angaben: \n\nName\nKontaktmöglichkeit (E-Mail oder Telefonnummer)\nAlter des Kindes / der Kinder\nSprachpräferenz (Deutsch / Türkisch)\nOptional: Thema oder Frage\, die Sie besonders interessiert\n\n*** \nNil Tuncalı ile Ebeveyn Bilgilendirme Semineri\nDeutsch-Türkisches Institut (DTI) e.V.\, ailelere yönelik ücretsiz ve kolay erişilebilir bir ebeveyn bilgilendirme semineri serisi başlatıyor. Amaç\, ailelere çocukların gelişimi\, eğitimi ve yetiştirilmesi konularında destek olmak ve Almanya’daki eğitim ve destek sistemi hakkında yol göstermektir. \nSeminerler\, derneğimizin üyesi Nil Tuncalı tarafından gerçekleştirilecektir. Kendisi uzmanlığını ve gönüllü katkısını bu programa sunmaktadır. \nKonuşmacı:Nil Tuncalı\, Özel Eğitim Uzmanı | Otizm Danışmanı \nÇocuklarda Gelişim ve Farklılıklar\n25 Eylül Cuma\, saat 9:30 – 11:00\nİçerik \n\nGelişim gecikmeleri\nDavranış farklılıkları\nDEHB & Otizm (ilk bilgilendirme\, teşhis değildir)\nFarklılıklarla ve belirsizliklerle başa çıkma\nDestek kurumları ve başvuru yerleri hakkında yönlendirme\n\nSeminer\, küçük çocuk sahibi aileler ve okul çağındaki çocukların ebeveynleri için uygundur. \nSeminer Almanca ve Türkçe olarak iki dilli gerçekleştirilecektir ve özellikle yeni göç etmiş ailelere yöneliktir. \nProgram\n\nKısa bilgilendirme sunumu\nSoru-cevap bölümü\nEbeveynler arası paylaşım\nBireysel sorular için yönlendirme\n\nHedef Kitle\n\nEbeveynler ve veliler\n0–10 yaş arası çocuğu olan aileler\nAile ve eğitim alanına ilgi duyan herkes\n\nKayıt ve Bilgi\n📍 Yer: DTI e.V. Seminer Salonu (M7 14\, 68161 Mannheim)📧 Kayıt: gizem.weber@dti-mannheim.de \nKatılım ücretsizdir\, bağışlar memnuniyetle kabul edilir ve kayıt zorunludur.\nKayıt için lütfen şu bilgileri iletin: \n\nAd-soyad\nİletişim bilgisi (e-posta veya telefon)\nÇocuğun/çocukların yaşı\nDil tercihi (Almanca / Türkçe)\n(İsteğe bağlı) İlginizi çeken konu veya sorular
URL:https://dti-mannheim.de/termin/eltern-infoveranstaltung-mit-nil-tuncali-deutsch-und-tuerkisch/
ATTACH;FMTTYPE=image/jpeg:https://dti-mannheim.de/wp-content/uploads/2026/03/Nil-Tuncali_seminer_gw_27-03-2026.jpg
END:VEVENT
BEGIN:VEVENT
DTSTART;TZID=Europe/Berlin:20260926T110000
DTEND;TZID=Europe/Berlin:20260927T150000
DTSTAMP:20260425T143954
CREATED:20260323T113351Z
LAST-MODIFIED:20260324T084813Z
UID:12136-1790420400-1790521200@dti-mannheim.de
SUMMARY:Film your future | Filmwerkstatt für Jugendliche mit Merve Uslu-Ersoy
DESCRIPTION:An deinem Workshoptag entwickelst du gemeinsam mit anderen kreative Stories – über dich selbst\, Freundschaft\, Zusammenhalt und darüber\, wie du dir die Zukunft vorstellst. Du probierst aus\, experimentierst\, bringst deine eigenen Ideen ein und lernst\, wie ein Film wirklich entsteht. Und keine Sorge: Du bist nicht allein – erfahrene Jugendliche und die preisgekrönte Filmemacherin Merve Uslu-Ersoy begleiten dich dabei. \nDie Filmwerkstatt findet in Zusammenarbeit mit DTI e.V.\, dem Jugendtreff Schwetzingerstadt sowie Maybe Tomorrow – Utopiewerkstätten für Jugendliche und juge Erwachsene – statt und wird im Rahmen der Jubiläumskampagne „Imagine Futures“ des Internationales Filmfestival Mannheim-Heidelberg durchgeführt. \n🗓️ Workshop-Termine\n\nSamstag\, 26. September 2026 – für 12–15 Jahre\nSonntag\, 27. September 2026 – für 16–20+ Jahre\nUhrzeit: jeweils 11:00 – 15:00 Uhr\n\nOrt:Jugendtreff SchwetzingerstadtWespinstraße 2a68165 Mannheim \n📩 Anmeldung und Kontakt\nJetzt anmelden!\n \nHier kannst du das Anmeldeformular herunterladen:👉 [Film your future | Filmwerkstatt für Jugendliche | PDF herunterladen] \nBitte sende das ausgefüllte Formular oder stelle deine Fragen an:gizem.weber@dti-mannheim.de | ann-kristin.risser@mannheim.de
URL:https://dti-mannheim.de/termin/film-your-future-filmwerkstatt-fuer-jugendliche/
ATTACH;FMTTYPE=image/png:https://dti-mannheim.de/wp-content/uploads/2026/03/Flyer_Workshop_Film_your_future_gw_Cover.png
END:VEVENT
BEGIN:VEVENT
DTSTART;TZID=Europe/Berlin:20261130T080000
DTEND;TZID=Europe/Berlin:20261204T170000
DTSTAMP:20260425T143954
CREATED:20250416T075604Z
LAST-MODIFIED:20260206T084617Z
UID:11708-1796025600-1796403600@dti-mannheim.de
SUMMARY:Mitmachen Ehrensache – Jobben für einen guten Zweck
DESCRIPTION:Jobben für einen guten Zweck | Du hast Lust\, dich sozial zu engagieren und gleichzeitig einen Einblick in die Berufswelt zu bekommen? Bei Mitmachen Ehrensache suchen sich Jugendliche im Vorfeld oder am Internationalen Tag des Ehrenamts\, dem 5. Dezember\, einen Job bei einem Arbeitgeber ihrer Wahl. Das erarbeitete Geld behalten sie aber nicht für sich\, sondern spenden es für soziale Projekte. Jährlich beteiligen sich landesweit rund 10.000 Schülerinnen und Schüler. Dabei werden rund eine Viertelmillion Euro für gute Zwecke erarbeitet – eine tolle Leistung! \nMitmachen können Schülerinnen und Schüler ab Klasse 7. Für die Klassen 5 und 6 gibt es die Möglichkeit\, als ganze Klasse aktiv zu werden. Regionale Aktionsbüros helfen bei der Umsetzung vor Ort. Schulen können die Aktion auch als Baustein zur Berufsorientierung in den Jahresablauf integrieren. \nWer mehr als nur den einen Tag dabei sein möchte\, kann als Botschafterin oder Botschafter für Mitmachen Ehrensache aktiv werden. Auftakt dafür ist ein gemeinsames Botschafterseminar im Herbst. \nKontakt: DTI e.V. // Aktionsbüro Mannheim – mannheim[a]mitmachen-ehrensache.de
URL:https://dti-mannheim.de/termin/mitmachen-ehrensache-jobben-fuer-einen-guten-zweck-3/
ATTACH;FMTTYPE=image/jpeg:https://dti-mannheim.de/wp-content/uploads/2025/04/MME23-Mannheim©Doradzillo_1908s-scaled.jpg
END:VEVENT
END:VCALENDAR