BEGIN:VCALENDAR
VERSION:2.0
PRODID:-//DTI - ECPv6.2.0.1//NONSGML v1.0//EN
CALSCALE:GREGORIAN
METHOD:PUBLISH
X-ORIGINAL-URL:https://dti-mannheim.de
X-WR-CALDESC:Veranstaltungen für DTI
REFRESH-INTERVAL;VALUE=DURATION:PT1H
X-Robots-Tag:noindex
X-PUBLISHED-TTL:PT1H
BEGIN:VTIMEZONE
TZID:Europe/Berlin
BEGIN:DAYLIGHT
TZOFFSETFROM:+0100
TZOFFSETTO:+0200
TZNAME:CEST
DTSTART:20240331T010000
END:DAYLIGHT
BEGIN:STANDARD
TZOFFSETFROM:+0200
TZOFFSETTO:+0100
TZNAME:CET
DTSTART:20241027T010000
END:STANDARD
END:VTIMEZONE
BEGIN:VEVENT
DTSTART;TZID=Europe/Berlin:20240607T080000
DTEND;TZID=Europe/Berlin:20240616T010000
DTSTAMP:20260421T165619
CREATED:20240307T090735Z
LAST-MODIFIED:20240307T091007Z
UID:10346-1717747200-1718499600@dti-mannheim.de
SUMMARY:Türkeireise ///  Ostschwarzmeer-Küste im Juni 2024
DESCRIPTION:Die Ostschwarzmeer-Küste der Türkei winkt uns mit einer Reise voller Abenteuer\, Entspannung und kultureller Entdeckungen. Diese Region verspricht nicht nur atemberaubende Landschaften\, sondern auch herzliche Gastfreundschaft! \n07.06.2024 bis 16.06.2024 mit 8 Übernachtungen \nDoppelzimmer\, Preis pro Person: 1150 €\nAnmeldungen an: info [a] dti-mannheim.de bis zum 31.03.2024
URL:https://dti-mannheim.de/termin/tuerkeireise-ostschwarzmeer-kueste/
ATTACH;FMTTYPE=image/jpeg:https://dti-mannheim.de/wp-content/uploads/2024/03/2024_Plakat_Kulturreise_TR.jpg
END:VEVENT
END:VCALENDAR