BEGIN:VCALENDAR
VERSION:2.0
PRODID:-//DTI - ECPv6.2.0.1//NONSGML v1.0//EN
CALSCALE:GREGORIAN
METHOD:PUBLISH
X-WR-CALNAME:DTI
X-ORIGINAL-URL:https://dti-mannheim.de
X-WR-CALDESC:Veranstaltungen für DTI
REFRESH-INTERVAL;VALUE=DURATION:PT1H
X-Robots-Tag:noindex
X-PUBLISHED-TTL:PT1H
BEGIN:VTIMEZONE
TZID:Europe/Berlin
BEGIN:DAYLIGHT
TZOFFSETFROM:+0100
TZOFFSETTO:+0200
TZNAME:CEST
DTSTART:20240331T010000
END:DAYLIGHT
BEGIN:STANDARD
TZOFFSETFROM:+0200
TZOFFSETTO:+0100
TZNAME:CET
DTSTART:20241027T010000
END:STANDARD
END:VTIMEZONE
BEGIN:VEVENT
DTSTART;TZID=Europe/Berlin:20240513T130000
DTEND;TZID=Europe/Berlin:20240513T203000
DTSTAMP:20260421T173655
CREATED:20240306T072453Z
LAST-MODIFIED:20240318T134945Z
UID:10275-1715605200-1715632200@dti-mannheim.de
SUMMARY:Happy Birthday to you! - Siebte interaktive Demokratieveranstaltung zum 75. Jahrestag des Grundgesetzes  am 13. Mai 2024 im Atrium der Kunsthalle Mannheim
DESCRIPTION:Basis der Demokratie in Deutschland ist das Grundgesetz. Es wird dieses Jahr 75 Jahre alt. Menschen in diesem Alter gehen in den Ruhestand oder sind es schon. Dem Grundgesetz wünschen wir das nicht. Das Grundgesetz wirkt weiter – aber nur\, wenn wir es alle achten und wertschätzen. Denn seine Werte sind nicht nur die Grundlage unseres Staates\, sie sind auch das Fundament unseres Zusammenlebens. Letzteres setzt voraus\, dass wir alle die Grundwerte jeden Tag aufs Neue in unserem Alltag Wirklichkeit werden lassen. Als Zeichen der Wertschätzung\, die das Grundgesetzes braucht und verdient\, möchten wir als das Deutsch-Türkische Institut für Arbeit und Bildung e.V.\, gemeinsam den Tag des Grundgesetzes feiern. \nDie Veranstaltung\, die unter der Schirmherrschaft des Ministerpräsidenten von Baden-Württemberg\, Winfried Kretschmann\, steht\, trägt den Titel „Konzertante Demokratiefeier“ und findet in Kooperation mit den Mannheimer Philharmonikern\, der Stadt Mannheim und dem Mannheimer Morgen statt. Wir freuen uns besonders auf die persönliche Mitwirkung des Oberbürgermeisters der Stadt Mannheim\, Herrn Christian Specht sowie der Ersten Bürgermeisterin der Stadt Mannheim\, Frau Prof. Dr. Diana Pretzell. \n13:00 – 15:00 Uhr |\nDEMOKRATIE HEUTE: LUST ODER FRUST?*\nZeichnen setzen gegen Antisemitismus und für Europa  \nDr. Daniel Röder (Pulse of Europe)\, Dr. Michael Blume (Antisemitismusbeauftragte der Landesregierung Baden-Württemberg) und Bernd Osswald (Lehrer an der Friedrich-List-Schule\, Initiator des Seminarkurses „Wir feiern das Grundgesetz“ in Mannheim von 2019) werden in einem Dialog ihre Perspektiven zu „Demokratie heute“ präsentieren. Moderiert wird das Gespräch von Madeleine Bierlein\, Nachrichten-Chefin des Mannheimer Morgen. \nDas N7-Quartett der Mannheimer Philharmoniker begleitet das Programm musikalisch – unter Mitwirkung von Ali İnsan. \nAli İnsan\, 2004 in Mannheim geboren\, begann seine musikalische Karriere früh und sammelte zahlreiche Preise\, darunter den 1. Preis beim „Jugend musiziert“-Wettbewerb 2017 für Violine und den Mozart-Sonderpreis für seine herausragende Gesangsleistung. 2018 gewann er erneut den 1. Preis im Gesang beim „Jugend Musiziert“-Wettbewerb. Ali erlangte auch in der Türkei Anerkennung und arbeitete eng mit dem bekannten Künstler Zülfü Livaneli zusammen\, trat bei Konzerten in Istanbul und Bodrum auf und veröffentlichte das Album „Growing up with Livaneli“. Neben seiner musikalischen Tätigkeit hält er Tedx-Talks und tritt als Solosopranist bei kulturellen Veranstaltungen auf. Ali studiert Geschichte und Informatik an der Universität Mannheim. \n*Bei dem ersten Event handelt es sich um eine geschlossene Veranstaltung\, zu dem sich die Schüler:innen der Kooperationsschulen des DTI im Vorfeld anmelden können. \n18:00 – 20:30 Uhr |\nGLANZ UND ELEND DER DEMOKRATIE\nWarum wir auf das Grundgesetz stolz sein können  \nEs erwartet uns ein Abend voller Inspiration\, Dialog und kultureller Höhepunkte. Musikalisch bereichert FinestClassics mit Valery Sokolov (Violine)\, Aleksey Shadrin (Violoncello) und Olga Zado (Klavier) den Abend mit zwei Auftritten. Die Werkauswahl versucht den europäischen Geist zum Tag des Grundgesetzes einzufangen\, wie er sich heute darstellt. \nAls Gastreferent begrüßen wir Prof. Dr. Heribert Prantl\, bekannter Autor und Kolumnist der Süddeutschen Zeitung. Heribert Prantl beschäftigt sich in seinem Vortrag mit einem seiner Lieblingsbücher\, mit dem Grundgesetz. Er wünscht sich Grundrechte\, die das bleiben\, was sie waren\, sind und sein müssen: verlässliche Begleiter der Menschen im Alltag. Die Grundrechte des Grundgesetzes gehören für ihn zum Besten\, was den Deutschen in ihrer langen Geschichte widerfahren ist. \nDie anschließende Fragerunde moderiert Marco Pecht\, Nachrichtenchef des Mannheimer Morgen. \nFür die finanzielle und ideelle Unterstützung danken wir der Strube-Stiftung\, der ESSER-Stiftung\, der MANFRED LAUTENSCHLÄGER STIFTUNG sowie dem Unternehmen RUDOLF FUCHS GMBH & CO. KG. \n\n	Einladungskarte_GG75_GG_Stand 18-03-2024
URL:https://dti-mannheim.de/termin/75-jahrestag-des-grundgesetzes/
LOCATION:Kunsthalle Mannheim
ATTACH;FMTTYPE=image/png:https://dti-mannheim.de/wp-content/uploads/2024/03/Einladungskarte_GG75_GG_Stand-04-03-2024.png
END:VEVENT
END:VCALENDAR