BEGIN:VCALENDAR
VERSION:2.0
PRODID:-//DTI - ECPv6.2.0.1//NONSGML v1.0//EN
CALSCALE:GREGORIAN
METHOD:PUBLISH
X-ORIGINAL-URL:https://dti-mannheim.de
X-WR-CALDESC:Veranstaltungen für DTI
REFRESH-INTERVAL;VALUE=DURATION:PT1H
X-Robots-Tag:noindex
X-PUBLISHED-TTL:PT1H
BEGIN:VTIMEZONE
TZID:Europe/Berlin
BEGIN:DAYLIGHT
TZOFFSETFROM:+0100
TZOFFSETTO:+0200
TZNAME:CEST
DTSTART:20230326T010000
END:DAYLIGHT
BEGIN:STANDARD
TZOFFSETFROM:+0200
TZOFFSETTO:+0100
TZNAME:CET
DTSTART:20231029T010000
END:STANDARD
END:VTIMEZONE
BEGIN:VEVENT
DTSTART;TZID=Europe/Berlin:20231114T100000
DTEND;TZID=Europe/Berlin:20231114T130000
DTSTAMP:20260422T035545
CREATED:20230720T072653Z
LAST-MODIFIED:20230720T073247Z
UID:9437-1699956000-1699966800@dti-mannheim.de
SUMMARY:Engagiert! Wie Unternehmerinnen und Unternehmer ehrenamtlich Brücken bauen
DESCRIPTION:Jetzt Anmelden! \nOffenes Treffen IHK-Netzwerk Gesellschaftliche Verantwortung \nOhne ehrenamtliches Engagement wäre Vieles nicht möglich. Beim Treffen des IHK-Netzwerks Gesellschaftliche Verantwortung am 14. November 2023 schauen wir uns näher an\, wie Vertreterinnen und Vertreter von Unternehmen in der Rhein-Neckar-Region sich speziell für die deutsch-türkische Zusammenarbeit einsetzen. \n9:00 Uhr: Begrüßung (Dr. Axel Nitschke\, Hauptgeschäftsführer IHK Rhein-Neckar) \n9:10 Uhr: Als Unternehmer Brückenbauer sein (Mustafa Baklan\, Geschäftsführer BLG Kardesler Lebensmittel-Handelsgesellschaft mbH) \n9:45 Uhr: Deutsch-Türkisches Institut für Arbeit und Bildung e.V. (DTI): Best Practice für das Zusammenspiel von Wirtschaft und sozialem Engagement (Prof. Dr. Franz Egle\, stellvertretender und geschäftsführender Vorsitzender DTI e. V.) \n10:15 Uhr: Der Lea-Mittelstandspreis für soziale Verantwortung in Baden-Württemberg: Instrument zur Kommunikation von freiwilligem sozialem und gesellschaftlichem Engagement von Unternehmen (Eva-Maria Lambertz\, Referentin „Grundsatz Wirtschaftspolitik und Reden“ Ministerium für Wirtschaft\, Arbeit und Tourismus Baden-Württemberg) \n10:30 Uhr: Fragerunde (Annegret Rupp\, Referentin für Kommunikation und Marketing IHK Rhein-Neckar) \n10:45 Uhr: Rundgang durch das Lager \n11:15 Uhr: Networking bei einem kleinen deutsch-türkischen Imbiss
URL:https://dti-mannheim.de/termin/engagiert-wie-unternehmerinnen-und-unternehmer-ehrenamtlich-bruecken-bauen/
LOCATION:BLG Kardesler Lebensmittelhandels GmbH\, Wattstrasse 2-10\, 68199 Mannheim\, Deutschland
END:VEVENT
END:VCALENDAR