BEGIN:VCALENDAR
VERSION:2.0
PRODID:-//DTI - ECPv6.2.0.1//NONSGML v1.0//EN
CALSCALE:GREGORIAN
METHOD:PUBLISH
X-ORIGINAL-URL:https://dti-mannheim.de
X-WR-CALDESC:Veranstaltungen für DTI
REFRESH-INTERVAL;VALUE=DURATION:PT1H
X-Robots-Tag:noindex
X-PUBLISHED-TTL:PT1H
BEGIN:VTIMEZONE
TZID:Europe/Berlin
BEGIN:DAYLIGHT
TZOFFSETFROM:+0100
TZOFFSETTO:+0200
TZNAME:CEST
DTSTART:20230326T010000
END:DAYLIGHT
BEGIN:STANDARD
TZOFFSETFROM:+0200
TZOFFSETTO:+0100
TZNAME:CET
DTSTART:20231029T010000
END:STANDARD
END:VTIMEZONE
BEGIN:VEVENT
DTSTART;TZID=Europe/Berlin:20231024T180000
DTEND;TZID=Europe/Berlin:20231024T200000
DTSTAMP:20260422T040944
CREATED:20221221T115446Z
LAST-MODIFIED:20221221T115446Z
UID:7924-1698170400-1698177600@dti-mannheim.de
SUMMARY:Save-the-Date:  Mitgliederversammlung am 24. Oktober 2023
DESCRIPTION:Bereits jetzt möchten wir Sie zur nächsten Mitgliederversammlung des DTI e.V. einladen. Diese wird am Di. 24.10.2023 um 18:00 Uhr stattfinden. Der Ort wird noch bekannt gegeben. Bitte merken Sie sich diesen Termin schon jetzt vor. Die ordentliche Einladung mit Tagesordnung folgt rechtzeitig zu gegebener Zeit. Der Vorstand freut sich auf ein zahlreiches Erscheinen.
URL:https://dti-mannheim.de/termin/save-the-date-mitgliederversammlung-am-24-oktober-2023/
END:VEVENT
END:VCALENDAR