BEGIN:VCALENDAR
VERSION:2.0
PRODID:-//DTI - ECPv6.2.0.1//NONSGML v1.0//EN
CALSCALE:GREGORIAN
METHOD:PUBLISH
X-ORIGINAL-URL:https://dti-mannheim.de
X-WR-CALDESC:Veranstaltungen für DTI
REFRESH-INTERVAL;VALUE=DURATION:PT1H
X-Robots-Tag:noindex
X-PUBLISHED-TTL:PT1H
BEGIN:VTIMEZONE
TZID:Europe/Berlin
BEGIN:DAYLIGHT
TZOFFSETFROM:+0100
TZOFFSETTO:+0200
TZNAME:CEST
DTSTART:20230326T010000
END:DAYLIGHT
BEGIN:STANDARD
TZOFFSETFROM:+0200
TZOFFSETTO:+0100
TZNAME:CET
DTSTART:20231029T010000
END:STANDARD
END:VTIMEZONE
BEGIN:VEVENT
DTSTART;TZID=Europe/Berlin:20231023T110000
DTEND;TZID=Europe/Berlin:20231023T143000
DTSTAMP:20260422T041002
CREATED:20230720T093556Z
LAST-MODIFIED:20230927T175958Z
UID:9463-1698058800-1698071400@dti-mannheim.de
SUMMARY:Verlegung der Stolpersteine für Otto Wertheimer\, Max Leiner\, Sami Adelsheimer und Fritz Löbmann
DESCRIPTION:Verbunden mit unserem Projekt Über Lebensgeschichten stolpern. dürfen wir als DTI am 23.Oktober (Tag nach der Gurs-Deportation) für die „Izieu-Kinder“ und ihre Angehörigen 11 Stolpersteine verlegen. Die Schüler:innen der Friedrich-List-Schule und der Marie-Curie-Realschule sind in diesen Erinnerungstag einbezogen und sie werden die Verlegungen\, die ausschließlich den vier Kindern und ihren Familien gewidmet sind\, aktiv mitgestalten. \nHier finden Sie den genauen Plan für die Verlegung am Montag\, den 23. Oktober: \n\n\n\n\n\n\n11.15 Uhr\n\n\n\nRichard-Wagner-Str. 36\n\nOtto Wertheime\nWilhelm Wertheimer\nHedwig Wertheimer\n\n\n\n\n\n12.00 Uhr\n\n\n\nGalileistr. 30\n\n\n\nMax Leiner\n\nJohanna Strauss\nAuguste Schiffmann\n\n\n\n\n\n\n\n13.00 Uhr\n\n\n\nL 14\,5\n\nFritz Löbmann\n\nJulius Löbmann\n\nMathilde Löbmann\n\n\n\n\n\n\n\n13.45 Uhr\n\n\n\nG 7\, 5a\n\n\nSami Adelsheimer\n\nLaura Adelsheimer
URL:https://dti-mannheim.de/termin/verlegung-stolpersteine-fuer-otto-wertheimer-max-leiner-sami-adelsheimer-und-fritz-loebmann/
END:VEVENT
END:VCALENDAR