BEGIN:VCALENDAR
VERSION:2.0
PRODID:-//DTI - ECPv6.2.0.1//NONSGML v1.0//EN
CALSCALE:GREGORIAN
METHOD:PUBLISH
X-ORIGINAL-URL:https://dti-mannheim.de
X-WR-CALDESC:Veranstaltungen für DTI
REFRESH-INTERVAL;VALUE=DURATION:PT1H
X-Robots-Tag:noindex
X-PUBLISHED-TTL:PT1H
BEGIN:VTIMEZONE
TZID:Europe/Berlin
BEGIN:DAYLIGHT
TZOFFSETFROM:+0100
TZOFFSETTO:+0200
TZNAME:CEST
DTSTART:20230326T010000
END:DAYLIGHT
BEGIN:STANDARD
TZOFFSETFROM:+0200
TZOFFSETTO:+0100
TZNAME:CET
DTSTART:20231029T010000
END:STANDARD
END:VTIMEZONE
BEGIN:VEVENT
DTSTART;VALUE=DATE:20230517
DTEND;VALUE=DATE:20230526
DTSTAMP:20260424T170103
CREATED:20221221T115241Z
LAST-MODIFIED:20230312T182135Z
UID:7921-1684281600-1685059199@dti-mannheim.de
SUMMARY:Eine Kulturreise an die Schwarzmeerküste in der Türkei
DESCRIPTION:Sultanspaläste\, Fjorde und urige Fischerdörfer: Die Schwarzmeerküste im Norden der Türkei ist trotz spektakulärer Sehenswürdigkeiten bislang eher ein Geheimtipp. Zwischen den Felsen verbirgt sich hier einer der schönsten Küstenorte der Türkei. Das DTI lädt Sie vom 17. Mai 2023 bis 25. Mai 2023 zu einer Entdeckungsreise an die rund 1300 Kilometer lange Küste zwischen Bulgarien und Georgien ein. Bei Interesse füllen Sie bitte das online Formular vollständig aus. ⇓  \nDie Reise wurde wegen des Erdbebens verschoben!
URL:https://dti-mannheim.de/termin/kulturrreise-schwarzmeerkueste-tuerkei/
ATTACH;FMTTYPE=image/png:https://dti-mannheim.de/wp-content/uploads/2022/12/DTI_Kulturreise_Schwarzmeerkueste_2023_final.png
ORGANIZER;CN="DTI":MAILTO:info@dti-mannheim.de
END:VEVENT
END:VCALENDAR